BEGIN:VCALENDAR
VERSION:2.0
PRODID:-//MOTIO - ECPv6.15.17.1//NONSGML v1.0//EN
CALSCALE:GREGORIAN
METHOD:PUBLISH
X-WR-CALNAME:MOTIO
X-ORIGINAL-URL:https://motio.com
X-WR-CALDESC:Events for MOTIO
REFRESH-INTERVAL;VALUE=DURATION:PT1H
X-Robots-Tag:noindex
X-PUBLISHED-TTL:PT1H
BEGIN:VTIMEZONE
TZID:America/Chicago
BEGIN:DAYLIGHT
TZOFFSETFROM:-0600
TZOFFSETTO:-0500
TZNAME:CDT
DTSTART:20250309T080000
END:DAYLIGHT
BEGIN:STANDARD
TZOFFSETFROM:-0500
TZOFFSETTO:-0600
TZNAME:CST
DTSTART:20251102T070000
END:STANDARD
BEGIN:DAYLIGHT
TZOFFSETFROM:-0600
TZOFFSETTO:-0500
TZNAME:CDT
DTSTART:20260308T080000
END:DAYLIGHT
BEGIN:STANDARD
TZOFFSETFROM:-0500
TZOFFSETTO:-0600
TZNAME:CST
DTSTART:20261101T070000
END:STANDARD
BEGIN:DAYLIGHT
TZOFFSETFROM:-0600
TZOFFSETTO:-0500
TZNAME:CDT
DTSTART:20270314T080000
END:DAYLIGHT
BEGIN:STANDARD
TZOFFSETFROM:-0500
TZOFFSETTO:-0600
TZNAME:CST
DTSTART:20271107T070000
END:STANDARD
END:VTIMEZONE
BEGIN:VEVENT
DTSTART;VALUE=DATE:20260309
DTEND;VALUE=DATE:20260312
DTSTAMP:20260420T083600
CREATED:20260112T151426Z
LAST-MODIFIED:20260113T183116Z
UID:21307-1773014400-1773273599@motio.com
SUMMARY:Gartner Data & Analytics Summit 2026
DESCRIPTION:Join Motio in conjunction with Digital Hive at the Gartner Data & Analytics Summit in Orlando\, Florida.
URL:https://motio.com/event/gartner-data-analytics-summit-2026/
ATTACH;FMTTYPE=image/png:https://motio.com/wp-content/uploads/2026/01/Gartner-Data-and-Analytics-Event-Calendar-Image.png
END:VEVENT
END:VCALENDAR