BEGIN:VCALENDAR
VERSION:2.0
PRODID:-//MOTIO - ECPv6.15.17.1//NONSGML v1.0//EN
CALSCALE:GREGORIAN
METHOD:PUBLISH
X-WR-CALNAME:MOTIO
X-ORIGINAL-URL:https://motio.com
X-WR-CALDESC:Events for MOTIO
REFRESH-INTERVAL;VALUE=DURATION:PT1H
X-Robots-Tag:noindex
X-PUBLISHED-TTL:PT1H
BEGIN:VTIMEZONE
TZID:America/Chicago
BEGIN:DAYLIGHT
TZOFFSETFROM:-0600
TZOFFSETTO:-0500
TZNAME:CDT
DTSTART:20250309T080000
END:DAYLIGHT
BEGIN:STANDARD
TZOFFSETFROM:-0500
TZOFFSETTO:-0600
TZNAME:CST
DTSTART:20251102T070000
END:STANDARD
BEGIN:DAYLIGHT
TZOFFSETFROM:-0600
TZOFFSETTO:-0500
TZNAME:CDT
DTSTART:20260308T080000
END:DAYLIGHT
BEGIN:STANDARD
TZOFFSETFROM:-0500
TZOFFSETTO:-0600
TZNAME:CST
DTSTART:20261101T070000
END:STANDARD
BEGIN:DAYLIGHT
TZOFFSETFROM:-0600
TZOFFSETTO:-0500
TZNAME:CDT
DTSTART:20270314T080000
END:DAYLIGHT
BEGIN:STANDARD
TZOFFSETFROM:-0500
TZOFFSETTO:-0600
TZNAME:CST
DTSTART:20271107T070000
END:STANDARD
END:VTIMEZONE
BEGIN:VEVENT
DTSTART;TZID=America/Chicago:20260122T103000
DTEND;TZID=America/Chicago:20260122T113000
DTSTAMP:20260420T101332
CREATED:20260113T181652Z
LAST-MODIFIED:20260113T181812Z
UID:21325-1769077800-1769081400@motio.com
SUMMARY:Utilities Under Pressure: Governing Data\, Analytics\, and AI in the Data Center Era
DESCRIPTION:
URL:https://motio.com/event/utilities-under-pressure-governing-data-analytics-and-ai-in-the-data-center-era/
ATTACH;FMTTYPE=image/png:https://motio.com/wp-content/uploads/2026/01/Utilities-Under-Pressure-Governing-Data-Analytics-and-AI-in-the-Data-Center-Era.png
END:VEVENT
END:VCALENDAR