BEGIN:VCALENDAR
VERSION:2.0
PRODID:-//MOTIO - ECPv6.15.17.1//NONSGML v1.0//EN
CALSCALE:GREGORIAN
METHOD:PUBLISH
X-ORIGINAL-URL:https://motio.com
X-WR-CALDESC:Events for MOTIO
REFRESH-INTERVAL;VALUE=DURATION:PT1H
X-Robots-Tag:noindex
X-PUBLISHED-TTL:PT1H
BEGIN:VTIMEZONE
TZID:America/Chicago
BEGIN:DAYLIGHT
TZOFFSETFROM:-0600
TZOFFSETTO:-0500
TZNAME:CDT
DTSTART:20250309T080000
END:DAYLIGHT
BEGIN:STANDARD
TZOFFSETFROM:-0500
TZOFFSETTO:-0600
TZNAME:CST
DTSTART:20251102T070000
END:STANDARD
BEGIN:DAYLIGHT
TZOFFSETFROM:-0600
TZOFFSETTO:-0500
TZNAME:CDT
DTSTART:20260308T080000
END:DAYLIGHT
BEGIN:STANDARD
TZOFFSETFROM:-0500
TZOFFSETTO:-0600
TZNAME:CST
DTSTART:20261101T070000
END:STANDARD
BEGIN:DAYLIGHT
TZOFFSETFROM:-0600
TZOFFSETTO:-0500
TZNAME:CDT
DTSTART:20270314T080000
END:DAYLIGHT
BEGIN:STANDARD
TZOFFSETFROM:-0500
TZOFFSETTO:-0600
TZNAME:CST
DTSTART:20271107T070000
END:STANDARD
END:VTIMEZONE
BEGIN:VEVENT
DTSTART;VALUE=DATE:20260305
DTEND;VALUE=DATE:20260308
DTSTAMP:20260420T071726
CREATED:20260112T150151Z
LAST-MODIFIED:20260113T184638Z
UID:21301-1772668800-1772927999@motio.com
SUMMARY:Power BI Netherlands User Group
DESCRIPTION:Join Motio’s Edwin van Megesen at the Power BI Netherlands User Group for his session on “How to Scale Self-Service by Managing the Analytics Danger Zone.” \n\n\n\n\n\n\n\n\n\n\nSaturday\, 7 Mar 2026 12:00 pm – 1:00 pm (60 minutes)
URL:https://motio.com/event/power-bi-netherlands-user-group/
ATTACH;FMTTYPE=image/jpeg:https://motio.com/wp-content/uploads/2026/01/how-to-scale-self-service-by-managing-the-ana_van-megesen_1077765_banner-1.jpeg
END:VEVENT
BEGIN:VEVENT
DTSTART;VALUE=DATE:20260309
DTEND;VALUE=DATE:20260312
DTSTAMP:20260420T071726
CREATED:20260112T151426Z
LAST-MODIFIED:20260113T183116Z
UID:21307-1773014400-1773273599@motio.com
SUMMARY:Gartner Data & Analytics Summit 2026
DESCRIPTION:Join Motio in conjunction with Digital Hive at the Gartner Data & Analytics Summit in Orlando\, Florida.
URL:https://motio.com/event/gartner-data-analytics-summit-2026/
ATTACH;FMTTYPE=image/png:https://motio.com/wp-content/uploads/2026/01/Gartner-Data-and-Analytics-Event-Calendar-Image.png
END:VEVENT
BEGIN:VEVENT
DTSTART;VALUE=DATE:20260316
DTEND;VALUE=DATE:20260321
DTSTAMP:20260420T071726
CREATED:20251223T155347Z
LAST-MODIFIED:20260113T184735Z
UID:21207-1773619200-1774051199@motio.com
SUMMARY:Microsoft Fabric Community Conference
DESCRIPTION:Use Code MOTIO200 for $200 off. \nAlso\, be sure to join our session with Motio’s Amir Sarir: CI/CD and DevOps for Power BI: Beyond the Happy Path” 18 Mar 2026 4:25 pm (Eastern Daylight Time)
URL:https://motio.com/event/microsoft-fabric-community-conference/
ATTACH;FMTTYPE=image/png:https://motio.com/wp-content/uploads/2025/12/2A750A34-6749-4E0E-82E6-3636F835CB9D-scaled.png
END:VEVENT
END:VCALENDAR